BEGIN:VCALENDAR
VERSION:2.0
PRODID:-//Turistička zajednica grada Visa - ECPv6.15.20//NONSGML v1.0//EN
CALSCALE:GREGORIAN
METHOD:PUBLISH
X-WR-CALNAME:Turistička zajednica grada Visa
X-ORIGINAL-URL:https://www.vis-tourism.com/hr/
X-WR-CALDESC:Događaji za Turistička zajednica grada Visa
REFRESH-INTERVAL;VALUE=DURATION:PT1H
X-Robots-Tag:noindex
X-PUBLISHED-TTL:PT1H
BEGIN:VTIMEZONE
TZID:UTC
BEGIN:STANDARD
TZOFFSETFROM:+0000
TZOFFSETTO:+0000
TZNAME:UTC
DTSTART:20240101T000000
END:STANDARD
END:VTIMEZONE
BEGIN:VEVENT
DTSTART;TZID=UTC:20250715T200000
DTEND;TZID=UTC:20250715T210000
DTSTAMP:20260424T025915
CREATED:20250706T104945Z
LAST-MODIFIED:20250806T105735Z
UID:10011967-1752609600-1752613200@www.vis-tourism.com
SUMMARY:Sedam priča o Visu - Šetnja s Anelom (besplatna turistička tura Visom na hrvatskom jeziku)
DESCRIPTION:Besplatna edukativna vođena aktivnost utorkom navečer\, na hrvatskom jeziku – kulturni turizam \nVođenje i pripovijedanje autorice; Sedam priča o Visu iz knjige Zabranjeni gariful. \n  \nOtoci i more poput starih su škrinja oduvijek skrivali brojne priče i legende. Stoljećima su ih bake i djedovi pričali svojim unucima. \nAnela Borčić\, kao vodič i storyteller\, na svoj način interpretira sedam priča i legendi viškog arhipelaga novim generacijama unuka koji na otok tek povremeno dolaze\, a s njega ponesu topli osjećaj priče – priče koju je s njima podijelio nono ili nona. \nPridružite nam se utorkom od 20:00-21:00 h! \n  \nEvent se neće održati u slučaju kiše ili drugih nepovoljnih vremenskih uvjeta.
URL:https://www.vis-tourism.com/hr/kalendar-dogadanja/sedam-prica-o-visu-setnja-s-anelom-besplatna-turisticka-tura-visom-na-hrvatskom-jeziku-4/2025-07-15/
LOCATION:Ispred Gradske knjižnice\, Šetalište\, Ul. Viški Boj 13\, 21480\, Vis\, Vis\, 21480\, Croatia (Local Name: Hrvatska)
CATEGORIES:Turističke ture s vodičem
ATTACH;FMTTYPE=image/png:https://www.vis-tourism.com/wp-content/uploads/2025/07/Event-Facebook-Event-Cover-1920-x-1080-px.png
END:VEVENT
BEGIN:VEVENT
DTSTART;TZID=UTC:20250720T180000
DTEND;TZID=UTC:20250720T200000
DTSTAMP:20260424T025915
CREATED:20250719T064133Z
LAST-MODIFIED:20250921T150502Z
UID:10011634-1753034400-1753041600@www.vis-tourism.com
SUMMARY:Besplatne turističke ture s vodičem „Šetnja antičkom Issom i današnjim Visom“
DESCRIPTION:Kopnene ture  \n\nŠETNJA ANTIČKOM ISSOM\n\nObilazak sedam ključnih arheoloških lokaliteta na području antičkog grada\, uključujući ostatke termalnog kompleksa\, rimski teatar na poluotoku Prilovo\, i nekropolu Martvilo\, uz prezentaciju povijesnih činjenica i filozofskih utjecaja\, posebno Platonove misli i demokratskih načela uprave grada. \nTrajanje: 1:15 – 1:30 h \n  \n\nŠETNJA DANAŠNJIM VISOM – KULTURNA I DRUŠTVENA BAŠTINA GRADA VISA \n\nOva kopnena tura vodi posjetitelje kroz povijesni i kulturni centar grada Visa\, od luke do naselja Kut\, uz obilazak najvažnijih sakralnih objekata\, palača i spomenika koji svjedoče o bogatoj povijesti Visa od antičkih vremena do danas. \nTrajanje: 2 h \n  \n  \n  \n*Napomena: ture su jednojezične\, hrvatski ili engleski jezik \n**Polazak tura vođenih kopnom: srijedom i nedjeljom u 18:00 sati / nema minimalnog broja  \n**Za više informacija i booking: info@vis-tourism.com
URL:https://www.vis-tourism.com/hr/kalendar-dogadanja/besplatne-turisticke-ture-s-vodicem-setnja-antickom-issom-i-danasnjim-visom/2025-07-20/
LOCATION:Šetalište Stara Issa\, Vis
CATEGORIES:Turističke ture s vodičem
ATTACH;FMTTYPE=image/jpeg:https://www.vis-tourism.com/wp-content/uploads/2025/07/WhatsApp-Image-2025-07-14-at-17.51.16.jpeg
GEO:43.061599;16.183782
END:VEVENT
BEGIN:VEVENT
DTSTART;TZID=UTC:20250722T200000
DTEND;TZID=UTC:20250722T210000
DTSTAMP:20260424T025915
CREATED:20250706T104945Z
LAST-MODIFIED:20250806T105735Z
UID:10012063-1753214400-1753218000@www.vis-tourism.com
SUMMARY:Sedam priča o Visu - Šetnja s Anelom (besplatna turistička tura Visom na hrvatskom jeziku)
DESCRIPTION:Besplatna edukativna vođena aktivnost utorkom navečer\, na hrvatskom jeziku – kulturni turizam \nVođenje i pripovijedanje autorice; Sedam priča o Visu iz knjige Zabranjeni gariful. \n  \nOtoci i more poput starih su škrinja oduvijek skrivali brojne priče i legende. Stoljećima su ih bake i djedovi pričali svojim unucima. \nAnela Borčić\, kao vodič i storyteller\, na svoj način interpretira sedam priča i legendi viškog arhipelaga novim generacijama unuka koji na otok tek povremeno dolaze\, a s njega ponesu topli osjećaj priče – priče koju je s njima podijelio nono ili nona. \nPridružite nam se utorkom od 20:00-21:00 h! \n  \nEvent se neće održati u slučaju kiše ili drugih nepovoljnih vremenskih uvjeta.
URL:https://www.vis-tourism.com/hr/kalendar-dogadanja/sedam-prica-o-visu-setnja-s-anelom-besplatna-turisticka-tura-visom-na-hrvatskom-jeziku-4/2025-07-22/
LOCATION:Ispred Gradske knjižnice\, Šetalište\, Ul. Viški Boj 13\, 21480\, Vis\, Vis\, 21480\, Croatia (Local Name: Hrvatska)
CATEGORIES:Turističke ture s vodičem
ATTACH;FMTTYPE=image/png:https://www.vis-tourism.com/wp-content/uploads/2025/07/Event-Facebook-Event-Cover-1920-x-1080-px.png
END:VEVENT
BEGIN:VEVENT
DTSTART;TZID=UTC:20250723T180000
DTEND;TZID=UTC:20250723T200000
DTSTAMP:20260424T025915
CREATED:20250719T064657Z
LAST-MODIFIED:20250806T090251Z
UID:10011699-1753293600-1753300800@www.vis-tourism.com
SUMMARY:Besplatne turističke ture s vodičem „Šetnja antičkom Issom i današnjim Visom“
DESCRIPTION:Kopnene ture  \n\nŠETNJA ANTIČKOM ISSOM\n\nObilazak sedam ključnih arheoloških lokaliteta na području antičkog grada\, uključujući ostatke termalnog kompleksa\, rimski teatar na poluotoku Prilovo\, i nekropolu Martvilo\, uz prezentaciju povijesnih činjenica i filozofskih utjecaja\, posebno Platonove misli i demokratskih načela uprave grada. \nTrajanje: 1:15 – 1:30 h \n  \n\nŠETNJA DANAŠNJIM VISOM – KULTURNA I DRUŠTVENA BAŠTINA GRADA VISA \n\nOva kopnena tura vodi posjetitelje kroz povijesni i kulturni centar grada Visa\, od luke do naselja Kut\, uz obilazak najvažnijih sakralnih objekata\, palača i spomenika koji svjedoče o bogatoj povijesti Visa od antičkih vremena do danas. \nTrajanje: 2 h \n  \nMorska tura / Maritime Archaeology Tour \n\nPODMORJEM ANTIČKOG GRADA ISSA\n\nObilazak pet točaka podmorskog arheološkog lokaliteta prilagođena za posjetitelje s osnovnim ronilačkim vještinama ili one kojima je terapija plivanjem preporučena\, s edukativnim informacijama o podvodnim ostacima helenističkog i rimskog doba. \nTrajanje: 2 h \nMinimalan broj osoba za ronjenje: 5 \n  \n*Napomena: ture su jednojezične\, hrvatski ili engleski jezik \n**Polazak tura vođenih kopnom: srijedom i nedjeljom u 18:00 sati / nema minimalnog broja  \n**Za više informacija i booking: info@vis-tourism.com
URL:https://www.vis-tourism.com/hr/kalendar-dogadanja/besplatne-turisticke-ture-s-vodicem-setnja-antickom-issom-i-danasnjim-visom-2/2025-07-23/
LOCATION:Šetalište Stara Issa\, Vis
CATEGORIES:Turističke ture s vodičem
ATTACH;FMTTYPE=image/jpeg:https://www.vis-tourism.com/wp-content/uploads/2025/07/WhatsApp-Image-2025-07-14-at-17.51.16.jpeg
GEO:43.061599;16.183782
END:VEVENT
BEGIN:VEVENT
DTSTART;TZID=UTC:20250727T180000
DTEND;TZID=UTC:20250727T200000
DTSTAMP:20260424T025915
CREATED:20250719T064133Z
LAST-MODIFIED:20250921T150502Z
UID:10011636-1753639200-1753646400@www.vis-tourism.com
SUMMARY:Besplatne turističke ture s vodičem „Šetnja antičkom Issom i današnjim Visom“
DESCRIPTION:Kopnene ture  \n\nŠETNJA ANTIČKOM ISSOM\n\nObilazak sedam ključnih arheoloških lokaliteta na području antičkog grada\, uključujući ostatke termalnog kompleksa\, rimski teatar na poluotoku Prilovo\, i nekropolu Martvilo\, uz prezentaciju povijesnih činjenica i filozofskih utjecaja\, posebno Platonove misli i demokratskih načela uprave grada. \nTrajanje: 1:15 – 1:30 h \n  \n\nŠETNJA DANAŠNJIM VISOM – KULTURNA I DRUŠTVENA BAŠTINA GRADA VISA \n\nOva kopnena tura vodi posjetitelje kroz povijesni i kulturni centar grada Visa\, od luke do naselja Kut\, uz obilazak najvažnijih sakralnih objekata\, palača i spomenika koji svjedoče o bogatoj povijesti Visa od antičkih vremena do danas. \nTrajanje: 2 h \n  \n  \n  \n*Napomena: ture su jednojezične\, hrvatski ili engleski jezik \n**Polazak tura vođenih kopnom: srijedom i nedjeljom u 18:00 sati / nema minimalnog broja  \n**Za više informacija i booking: info@vis-tourism.com
URL:https://www.vis-tourism.com/hr/kalendar-dogadanja/besplatne-turisticke-ture-s-vodicem-setnja-antickom-issom-i-danasnjim-visom/2025-07-27/
LOCATION:Šetalište Stara Issa\, Vis
CATEGORIES:Turističke ture s vodičem
ATTACH;FMTTYPE=image/jpeg:https://www.vis-tourism.com/wp-content/uploads/2025/07/WhatsApp-Image-2025-07-14-at-17.51.16.jpeg
GEO:43.061599;16.183782
END:VEVENT
BEGIN:VEVENT
DTSTART;TZID=UTC:20250729T200000
DTEND;TZID=UTC:20250729T210000
DTSTAMP:20260424T025915
CREATED:20250706T104945Z
LAST-MODIFIED:20250806T105735Z
UID:10012064-1753819200-1753822800@www.vis-tourism.com
SUMMARY:Sedam priča o Visu - Šetnja s Anelom (besplatna turistička tura Visom na hrvatskom jeziku)
DESCRIPTION:Besplatna edukativna vođena aktivnost utorkom navečer\, na hrvatskom jeziku – kulturni turizam \nVođenje i pripovijedanje autorice; Sedam priča o Visu iz knjige Zabranjeni gariful. \n  \nOtoci i more poput starih su škrinja oduvijek skrivali brojne priče i legende. Stoljećima su ih bake i djedovi pričali svojim unucima. \nAnela Borčić\, kao vodič i storyteller\, na svoj način interpretira sedam priča i legendi viškog arhipelaga novim generacijama unuka koji na otok tek povremeno dolaze\, a s njega ponesu topli osjećaj priče – priče koju je s njima podijelio nono ili nona. \nPridružite nam se utorkom od 20:00-21:00 h! \n  \nEvent se neće održati u slučaju kiše ili drugih nepovoljnih vremenskih uvjeta.
URL:https://www.vis-tourism.com/hr/kalendar-dogadanja/sedam-prica-o-visu-setnja-s-anelom-besplatna-turisticka-tura-visom-na-hrvatskom-jeziku-4/2025-07-29/
LOCATION:Ispred Gradske knjižnice\, Šetalište\, Ul. Viški Boj 13\, 21480\, Vis\, Vis\, 21480\, Croatia (Local Name: Hrvatska)
CATEGORIES:Turističke ture s vodičem
ATTACH;FMTTYPE=image/png:https://www.vis-tourism.com/wp-content/uploads/2025/07/Event-Facebook-Event-Cover-1920-x-1080-px.png
END:VEVENT
BEGIN:VEVENT
DTSTART;TZID=UTC:20250730T180000
DTEND;TZID=UTC:20250730T200000
DTSTAMP:20260424T025915
CREATED:20250719T064657Z
LAST-MODIFIED:20250806T090251Z
UID:10011762-1753898400-1753905600@www.vis-tourism.com
SUMMARY:Besplatne turističke ture s vodičem „Šetnja antičkom Issom i današnjim Visom“
DESCRIPTION:Kopnene ture  \n\nŠETNJA ANTIČKOM ISSOM\n\nObilazak sedam ključnih arheoloških lokaliteta na području antičkog grada\, uključujući ostatke termalnog kompleksa\, rimski teatar na poluotoku Prilovo\, i nekropolu Martvilo\, uz prezentaciju povijesnih činjenica i filozofskih utjecaja\, posebno Platonove misli i demokratskih načela uprave grada. \nTrajanje: 1:15 – 1:30 h \n  \n\nŠETNJA DANAŠNJIM VISOM – KULTURNA I DRUŠTVENA BAŠTINA GRADA VISA \n\nOva kopnena tura vodi posjetitelje kroz povijesni i kulturni centar grada Visa\, od luke do naselja Kut\, uz obilazak najvažnijih sakralnih objekata\, palača i spomenika koji svjedoče o bogatoj povijesti Visa od antičkih vremena do danas. \nTrajanje: 2 h \n  \nMorska tura / Maritime Archaeology Tour \n\nPODMORJEM ANTIČKOG GRADA ISSA\n\nObilazak pet točaka podmorskog arheološkog lokaliteta prilagođena za posjetitelje s osnovnim ronilačkim vještinama ili one kojima je terapija plivanjem preporučena\, s edukativnim informacijama o podvodnim ostacima helenističkog i rimskog doba. \nTrajanje: 2 h \nMinimalan broj osoba za ronjenje: 5 \n  \n*Napomena: ture su jednojezične\, hrvatski ili engleski jezik \n**Polazak tura vođenih kopnom: srijedom i nedjeljom u 18:00 sati / nema minimalnog broja  \n**Za više informacija i booking: info@vis-tourism.com
URL:https://www.vis-tourism.com/hr/kalendar-dogadanja/besplatne-turisticke-ture-s-vodicem-setnja-antickom-issom-i-danasnjim-visom-2/2025-07-30/
LOCATION:Šetalište Stara Issa\, Vis
CATEGORIES:Turističke ture s vodičem
ATTACH;FMTTYPE=image/jpeg:https://www.vis-tourism.com/wp-content/uploads/2025/07/WhatsApp-Image-2025-07-14-at-17.51.16.jpeg
GEO:43.061599;16.183782
END:VEVENT
END:VCALENDAR