BEGIN:VCALENDAR
VERSION:2.0
PRODID:-//Turistička zajednica grada Visa - ECPv6.15.20//NONSGML v1.0//EN
CALSCALE:GREGORIAN
METHOD:PUBLISH
X-ORIGINAL-URL:https://www.vis-tourism.com/hr/
X-WR-CALDESC:Događaji za Turistička zajednica grada Visa
REFRESH-INTERVAL;VALUE=DURATION:PT1H
X-Robots-Tag:noindex
X-PUBLISHED-TTL:PT1H
BEGIN:VTIMEZONE
TZID:UTC
BEGIN:STANDARD
TZOFFSETFROM:+0000
TZOFFSETTO:+0000
TZNAME:UTC
DTSTART:20240101T000000
END:STANDARD
END:VTIMEZONE
BEGIN:VEVENT
DTSTART;TZID=UTC:20250830T063000
DTEND;TZID=UTC:20250830T073000
DTSTAMP:20260420T100522
CREATED:20250708T064601Z
LAST-MODIFIED:20250806T114023Z
UID:10007695-1756535400-1756539000@www.vis-tourism.com
SUMMARY:Jutarnja joga s Johannom (besplatni tečajevi)
DESCRIPTION:Vođene satnice na terasi s pogledom na višku luku\, otvorene za sve\, naglasak na relaksaciji i pokretanju tijela (pozdrav suncu). \nVrijeme održavanja: Ponedjeljkom\, srijedom i subotom 6:30–7:30 h \nEvent se neće održati u slučaju kiše ili drugih nepovoljnih vremenskih uvjeta.
URL:https://www.vis-tourism.com/hr/kalendar-dogadanja/jutarnja-joga-besplatni-tecajevi/2025-08-30/
LOCATION:Dvorište Srednje škole A. M. Karamaneo
CATEGORIES:Sport
ATTACH;FMTTYPE=image/png:https://www.vis-tourism.com/wp-content/uploads/2025/07/1.png
END:VEVENT
BEGIN:VEVENT
DTSTART;TZID=UTC:20250829T203000
DTEND;TZID=UTC:20250829T213000
DTSTAMP:20260420T100522
CREATED:20250711T060017Z
LAST-MODIFIED:20250806T094931Z
UID:10007832-1756499400-1756503000@www.vis-tourism.com
SUMMARY:Joga 50+ s Margitom (besplatni tečajevi)
DESCRIPTION:TIJEKOM ODMORA NA OTOKU\nDarujte si vrijeme za uživanje u satovima joge slow-flow. Nježan put prema sebi kroz joga tehnike\, vježbe disanja i duboku relaksaciju. \nPridružite se posebno prilagođenim satovima joge za osobe u zrelijim godinama! \nVrijeme održavanja: Petkom 20:30–21:30\nLokacija: Dvorište Srednje škole A. M. Karamaneo \nPrijave i informacije: \nMargita\, Hatha Yoga teacher \n\nmob.: (00385) +91 580 32 03\ne-mail: megy.dancer@gmail.com\n\nEvent se neće održati u slučaju kiše ili drugih nepovoljnih vremenskih uvjeta.
URL:https://www.vis-tourism.com/hr/kalendar-dogadanja/joga-50-besplatni-tecajevi/2025-08-29/
LOCATION:Dvorište Srednje škole A. M. Karamaneo
CATEGORIES:Sport
ATTACH;FMTTYPE=image/png:https://www.vis-tourism.com/wp-content/uploads/2025/07/3.png
END:VEVENT
BEGIN:VEVENT
DTSTART;TZID=UTC:20250827T063000
DTEND;TZID=UTC:20250827T073000
DTSTAMP:20260420T100522
CREATED:20250708T064601Z
LAST-MODIFIED:20250806T114023Z
UID:10007694-1756276200-1756279800@www.vis-tourism.com
SUMMARY:Jutarnja joga s Johannom (besplatni tečajevi)
DESCRIPTION:Vođene satnice na terasi s pogledom na višku luku\, otvorene za sve\, naglasak na relaksaciji i pokretanju tijela (pozdrav suncu). \nVrijeme održavanja: Ponedjeljkom\, srijedom i subotom 6:30–7:30 h \nEvent se neće održati u slučaju kiše ili drugih nepovoljnih vremenskih uvjeta.
URL:https://www.vis-tourism.com/hr/kalendar-dogadanja/jutarnja-joga-besplatni-tecajevi/2025-08-27/
LOCATION:Dvorište Srednje škole A. M. Karamaneo
CATEGORIES:Sport
ATTACH;FMTTYPE=image/png:https://www.vis-tourism.com/wp-content/uploads/2025/07/1.png
END:VEVENT
BEGIN:VEVENT
DTSTART;TZID=UTC:20250825T063000
DTEND;TZID=UTC:20250825T073000
DTSTAMP:20260420T100522
CREATED:20250708T064601Z
LAST-MODIFIED:20250806T114023Z
UID:10007693-1756103400-1756107000@www.vis-tourism.com
SUMMARY:Jutarnja joga s Johannom (besplatni tečajevi)
DESCRIPTION:Vođene satnice na terasi s pogledom na višku luku\, otvorene za sve\, naglasak na relaksaciji i pokretanju tijela (pozdrav suncu). \nVrijeme održavanja: Ponedjeljkom\, srijedom i subotom 6:30–7:30 h \nEvent se neće održati u slučaju kiše ili drugih nepovoljnih vremenskih uvjeta.
URL:https://www.vis-tourism.com/hr/kalendar-dogadanja/jutarnja-joga-besplatni-tecajevi/2025-08-25/
LOCATION:Dvorište Srednje škole A. M. Karamaneo
CATEGORIES:Sport
ATTACH;FMTTYPE=image/png:https://www.vis-tourism.com/wp-content/uploads/2025/07/1.png
END:VEVENT
BEGIN:VEVENT
DTSTART;TZID=UTC:20250823T063000
DTEND;TZID=UTC:20250823T073000
DTSTAMP:20260420T100522
CREATED:20250708T064601Z
LAST-MODIFIED:20250806T114023Z
UID:10007692-1755930600-1755934200@www.vis-tourism.com
SUMMARY:Jutarnja joga s Johannom (besplatni tečajevi)
DESCRIPTION:Vođene satnice na terasi s pogledom na višku luku\, otvorene za sve\, naglasak na relaksaciji i pokretanju tijela (pozdrav suncu). \nVrijeme održavanja: Ponedjeljkom\, srijedom i subotom 6:30–7:30 h \nEvent se neće održati u slučaju kiše ili drugih nepovoljnih vremenskih uvjeta.
URL:https://www.vis-tourism.com/hr/kalendar-dogadanja/jutarnja-joga-besplatni-tecajevi/2025-08-23/
LOCATION:Dvorište Srednje škole A. M. Karamaneo
CATEGORIES:Sport
ATTACH;FMTTYPE=image/png:https://www.vis-tourism.com/wp-content/uploads/2025/07/1.png
END:VEVENT
BEGIN:VEVENT
DTSTART;TZID=UTC:20250822T203000
DTEND;TZID=UTC:20250822T213000
DTSTAMP:20260420T100522
CREATED:20250711T060017Z
LAST-MODIFIED:20250806T094931Z
UID:10007831-1755894600-1755898200@www.vis-tourism.com
SUMMARY:Joga 50+ s Margitom (besplatni tečajevi)
DESCRIPTION:TIJEKOM ODMORA NA OTOKU\nDarujte si vrijeme za uživanje u satovima joge slow-flow. Nježan put prema sebi kroz joga tehnike\, vježbe disanja i duboku relaksaciju. \nPridružite se posebno prilagođenim satovima joge za osobe u zrelijim godinama! \nVrijeme održavanja: Petkom 20:30–21:30\nLokacija: Dvorište Srednje škole A. M. Karamaneo \nPrijave i informacije: \nMargita\, Hatha Yoga teacher \n\nmob.: (00385) +91 580 32 03\ne-mail: megy.dancer@gmail.com\n\nEvent se neće održati u slučaju kiše ili drugih nepovoljnih vremenskih uvjeta.
URL:https://www.vis-tourism.com/hr/kalendar-dogadanja/joga-50-besplatni-tecajevi/2025-08-22/
LOCATION:Dvorište Srednje škole A. M. Karamaneo
CATEGORIES:Sport
ATTACH;FMTTYPE=image/png:https://www.vis-tourism.com/wp-content/uploads/2025/07/3.png
END:VEVENT
BEGIN:VEVENT
DTSTART;TZID=UTC:20250820T063000
DTEND;TZID=UTC:20250820T073000
DTSTAMP:20260420T100522
CREATED:20250708T064601Z
LAST-MODIFIED:20250806T114023Z
UID:10007691-1755671400-1755675000@www.vis-tourism.com
SUMMARY:Jutarnja joga s Johannom (besplatni tečajevi)
DESCRIPTION:Vođene satnice na terasi s pogledom na višku luku\, otvorene za sve\, naglasak na relaksaciji i pokretanju tijela (pozdrav suncu). \nVrijeme održavanja: Ponedjeljkom\, srijedom i subotom 6:30–7:30 h \nEvent se neće održati u slučaju kiše ili drugih nepovoljnih vremenskih uvjeta.
URL:https://www.vis-tourism.com/hr/kalendar-dogadanja/jutarnja-joga-besplatni-tecajevi/2025-08-20/
LOCATION:Dvorište Srednje škole A. M. Karamaneo
CATEGORIES:Sport
ATTACH;FMTTYPE=image/png:https://www.vis-tourism.com/wp-content/uploads/2025/07/1.png
END:VEVENT
BEGIN:VEVENT
DTSTART;TZID=UTC:20250818T063000
DTEND;TZID=UTC:20250818T073000
DTSTAMP:20260420T100522
CREATED:20250708T064601Z
LAST-MODIFIED:20250806T114023Z
UID:10007690-1755498600-1755502200@www.vis-tourism.com
SUMMARY:Jutarnja joga s Johannom (besplatni tečajevi)
DESCRIPTION:Vođene satnice na terasi s pogledom na višku luku\, otvorene za sve\, naglasak na relaksaciji i pokretanju tijela (pozdrav suncu). \nVrijeme održavanja: Ponedjeljkom\, srijedom i subotom 6:30–7:30 h \nEvent se neće održati u slučaju kiše ili drugih nepovoljnih vremenskih uvjeta.
URL:https://www.vis-tourism.com/hr/kalendar-dogadanja/jutarnja-joga-besplatni-tecajevi/2025-08-18/
LOCATION:Dvorište Srednje škole A. M. Karamaneo
CATEGORIES:Sport
ATTACH;FMTTYPE=image/png:https://www.vis-tourism.com/wp-content/uploads/2025/07/1.png
END:VEVENT
BEGIN:VEVENT
DTSTART;TZID=UTC:20250816T063000
DTEND;TZID=UTC:20250816T073000
DTSTAMP:20260420T100522
CREATED:20250708T064601Z
LAST-MODIFIED:20250806T114023Z
UID:10007689-1755325800-1755329400@www.vis-tourism.com
SUMMARY:Jutarnja joga s Johannom (besplatni tečajevi)
DESCRIPTION:Vođene satnice na terasi s pogledom na višku luku\, otvorene za sve\, naglasak na relaksaciji i pokretanju tijela (pozdrav suncu). \nVrijeme održavanja: Ponedjeljkom\, srijedom i subotom 6:30–7:30 h \nEvent se neće održati u slučaju kiše ili drugih nepovoljnih vremenskih uvjeta.
URL:https://www.vis-tourism.com/hr/kalendar-dogadanja/jutarnja-joga-besplatni-tecajevi/2025-08-16/
LOCATION:Dvorište Srednje škole A. M. Karamaneo
CATEGORIES:Sport
ATTACH;FMTTYPE=image/png:https://www.vis-tourism.com/wp-content/uploads/2025/07/1.png
END:VEVENT
BEGIN:VEVENT
DTSTART;TZID=UTC:20250815T203000
DTEND;TZID=UTC:20250815T213000
DTSTAMP:20260420T100522
CREATED:20250711T060017Z
LAST-MODIFIED:20250806T094931Z
UID:10007830-1755289800-1755293400@www.vis-tourism.com
SUMMARY:Joga 50+ s Margitom (besplatni tečajevi)
DESCRIPTION:TIJEKOM ODMORA NA OTOKU\nDarujte si vrijeme za uživanje u satovima joge slow-flow. Nježan put prema sebi kroz joga tehnike\, vježbe disanja i duboku relaksaciju. \nPridružite se posebno prilagođenim satovima joge za osobe u zrelijim godinama! \nVrijeme održavanja: Petkom 20:30–21:30\nLokacija: Dvorište Srednje škole A. M. Karamaneo \nPrijave i informacije: \nMargita\, Hatha Yoga teacher \n\nmob.: (00385) +91 580 32 03\ne-mail: megy.dancer@gmail.com\n\nEvent se neće održati u slučaju kiše ili drugih nepovoljnih vremenskih uvjeta.
URL:https://www.vis-tourism.com/hr/kalendar-dogadanja/joga-50-besplatni-tecajevi/2025-08-15/
LOCATION:Dvorište Srednje škole A. M. Karamaneo
CATEGORIES:Sport
ATTACH;FMTTYPE=image/png:https://www.vis-tourism.com/wp-content/uploads/2025/07/3.png
END:VEVENT
BEGIN:VEVENT
DTSTART;TZID=UTC:20250814T200000
DTEND;TZID=UTC:20250814T210000
DTSTAMP:20260420T100522
CREATED:20250806T113530Z
LAST-MODIFIED:20250806T113711Z
UID:10007557-1755201600-1755205200@www.vis-tourism.com
SUMMARY:Pilates by the Sea s Ivanom (besplatni večernji treninzi)
DESCRIPTION:Pilates na otvorenom\, vođene grupe\, naglasak na istezanju\, snazi i opuštanju. \nTrening je besplatan\, a održavat će se ponedjeljkom i četvrtkom od 20:00–21:00h. \nEvent se neće održati u slučaju kiše ili drugih nepovoljnih vremenskih uvjeta.
URL:https://www.vis-tourism.com/hr/kalendar-dogadanja/pilates-by-the-sea-besplatni-vecernji-treninzi-2/2025-08-14/
LOCATION:Dvorište Srednje škole A. M. Karamaneo
CATEGORIES:Sport
ATTACH;FMTTYPE=image/png:https://www.vis-tourism.com/wp-content/uploads/2025/07/2.png
END:VEVENT
BEGIN:VEVENT
DTSTART;TZID=UTC:20250813T063000
DTEND;TZID=UTC:20250813T073000
DTSTAMP:20260420T100522
CREATED:20250708T064601Z
LAST-MODIFIED:20250806T114023Z
UID:10007688-1755066600-1755070200@www.vis-tourism.com
SUMMARY:Jutarnja joga s Johannom (besplatni tečajevi)
DESCRIPTION:Vođene satnice na terasi s pogledom na višku luku\, otvorene za sve\, naglasak na relaksaciji i pokretanju tijela (pozdrav suncu). \nVrijeme održavanja: Ponedjeljkom\, srijedom i subotom 6:30–7:30 h \nEvent se neće održati u slučaju kiše ili drugih nepovoljnih vremenskih uvjeta.
URL:https://www.vis-tourism.com/hr/kalendar-dogadanja/jutarnja-joga-besplatni-tecajevi/2025-08-13/
LOCATION:Dvorište Srednje škole A. M. Karamaneo
CATEGORIES:Sport
ATTACH;FMTTYPE=image/png:https://www.vis-tourism.com/wp-content/uploads/2025/07/1.png
END:VEVENT
BEGIN:VEVENT
DTSTART;TZID=UTC:20250811T200000
DTEND;TZID=UTC:20250811T210000
DTSTAMP:20260420T100522
CREATED:20250806T113530Z
LAST-MODIFIED:20250806T113711Z
UID:10007556-1754942400-1754946000@www.vis-tourism.com
SUMMARY:Pilates by the Sea s Ivanom (besplatni večernji treninzi)
DESCRIPTION:Pilates na otvorenom\, vođene grupe\, naglasak na istezanju\, snazi i opuštanju. \nTrening je besplatan\, a održavat će se ponedjeljkom i četvrtkom od 20:00–21:00h. \nEvent se neće održati u slučaju kiše ili drugih nepovoljnih vremenskih uvjeta.
URL:https://www.vis-tourism.com/hr/kalendar-dogadanja/pilates-by-the-sea-besplatni-vecernji-treninzi-2/2025-08-11/
LOCATION:Dvorište Srednje škole A. M. Karamaneo
CATEGORIES:Sport
ATTACH;FMTTYPE=image/png:https://www.vis-tourism.com/wp-content/uploads/2025/07/2.png
END:VEVENT
BEGIN:VEVENT
DTSTART;TZID=UTC:20250811T063000
DTEND;TZID=UTC:20250811T073000
DTSTAMP:20260420T100522
CREATED:20250708T064601Z
LAST-MODIFIED:20250806T114023Z
UID:10007687-1754893800-1754897400@www.vis-tourism.com
SUMMARY:Jutarnja joga s Johannom (besplatni tečajevi)
DESCRIPTION:Vođene satnice na terasi s pogledom na višku luku\, otvorene za sve\, naglasak na relaksaciji i pokretanju tijela (pozdrav suncu). \nVrijeme održavanja: Ponedjeljkom\, srijedom i subotom 6:30–7:30 h \nEvent se neće održati u slučaju kiše ili drugih nepovoljnih vremenskih uvjeta.
URL:https://www.vis-tourism.com/hr/kalendar-dogadanja/jutarnja-joga-besplatni-tecajevi/2025-08-11/
LOCATION:Dvorište Srednje škole A. M. Karamaneo
CATEGORIES:Sport
ATTACH;FMTTYPE=image/png:https://www.vis-tourism.com/wp-content/uploads/2025/07/1.png
END:VEVENT
BEGIN:VEVENT
DTSTART;TZID=UTC:20250809T063000
DTEND;TZID=UTC:20250809T073000
DTSTAMP:20260420T100522
CREATED:20250708T064601Z
LAST-MODIFIED:20250806T114023Z
UID:10007686-1754721000-1754724600@www.vis-tourism.com
SUMMARY:Jutarnja joga s Johannom (besplatni tečajevi)
DESCRIPTION:Vođene satnice na terasi s pogledom na višku luku\, otvorene za sve\, naglasak na relaksaciji i pokretanju tijela (pozdrav suncu). \nVrijeme održavanja: Ponedjeljkom\, srijedom i subotom 6:30–7:30 h \nEvent se neće održati u slučaju kiše ili drugih nepovoljnih vremenskih uvjeta.
URL:https://www.vis-tourism.com/hr/kalendar-dogadanja/jutarnja-joga-besplatni-tecajevi/2025-08-09/
LOCATION:Dvorište Srednje škole A. M. Karamaneo
CATEGORIES:Sport
ATTACH;FMTTYPE=image/png:https://www.vis-tourism.com/wp-content/uploads/2025/07/1.png
END:VEVENT
BEGIN:VEVENT
DTSTART;TZID=UTC:20250808T203000
DTEND;TZID=UTC:20250808T213000
DTSTAMP:20260420T100522
CREATED:20250711T060017Z
LAST-MODIFIED:20250806T094931Z
UID:10007829-1754685000-1754688600@www.vis-tourism.com
SUMMARY:Joga 50+ s Margitom (besplatni tečajevi)
DESCRIPTION:TIJEKOM ODMORA NA OTOKU\nDarujte si vrijeme za uživanje u satovima joge slow-flow. Nježan put prema sebi kroz joga tehnike\, vježbe disanja i duboku relaksaciju. \nPridružite se posebno prilagođenim satovima joge za osobe u zrelijim godinama! \nVrijeme održavanja: Petkom 20:30–21:30\nLokacija: Dvorište Srednje škole A. M. Karamaneo \nPrijave i informacije: \nMargita\, Hatha Yoga teacher \n\nmob.: (00385) +91 580 32 03\ne-mail: megy.dancer@gmail.com\n\nEvent se neće održati u slučaju kiše ili drugih nepovoljnih vremenskih uvjeta.
URL:https://www.vis-tourism.com/hr/kalendar-dogadanja/joga-50-besplatni-tecajevi/2025-08-08/
LOCATION:Dvorište Srednje škole A. M. Karamaneo
CATEGORIES:Sport
ATTACH;FMTTYPE=image/png:https://www.vis-tourism.com/wp-content/uploads/2025/07/3.png
END:VEVENT
BEGIN:VEVENT
DTSTART;TZID=UTC:20250807T200000
DTEND;TZID=UTC:20250807T210000
DTSTAMP:20260420T100522
CREATED:20250806T113530Z
LAST-MODIFIED:20250806T113711Z
UID:10007555-1754596800-1754600400@www.vis-tourism.com
SUMMARY:Pilates by the Sea s Ivanom (besplatni večernji treninzi)
DESCRIPTION:Pilates na otvorenom\, vođene grupe\, naglasak na istezanju\, snazi i opuštanju. \nTrening je besplatan\, a održavat će se ponedjeljkom i četvrtkom od 20:00–21:00h. \nEvent se neće održati u slučaju kiše ili drugih nepovoljnih vremenskih uvjeta.
URL:https://www.vis-tourism.com/hr/kalendar-dogadanja/pilates-by-the-sea-besplatni-vecernji-treninzi-2/2025-08-07/
LOCATION:Dvorište Srednje škole A. M. Karamaneo
CATEGORIES:Sport
ATTACH;FMTTYPE=image/png:https://www.vis-tourism.com/wp-content/uploads/2025/07/2.png
END:VEVENT
BEGIN:VEVENT
DTSTART;TZID=UTC:20250806T063000
DTEND;TZID=UTC:20250806T073000
DTSTAMP:20260420T100522
CREATED:20250708T064601Z
LAST-MODIFIED:20250806T114023Z
UID:10007685-1754461800-1754465400@www.vis-tourism.com
SUMMARY:Jutarnja joga s Johannom (besplatni tečajevi)
DESCRIPTION:Vođene satnice na terasi s pogledom na višku luku\, otvorene za sve\, naglasak na relaksaciji i pokretanju tijela (pozdrav suncu). \nVrijeme održavanja: Ponedjeljkom\, srijedom i subotom 6:30–7:30 h \nEvent se neće održati u slučaju kiše ili drugih nepovoljnih vremenskih uvjeta.
URL:https://www.vis-tourism.com/hr/kalendar-dogadanja/jutarnja-joga-besplatni-tecajevi/2025-08-06/
LOCATION:Dvorište Srednje škole A. M. Karamaneo
CATEGORIES:Sport
ATTACH;FMTTYPE=image/png:https://www.vis-tourism.com/wp-content/uploads/2025/07/1.png
END:VEVENT
BEGIN:VEVENT
DTSTART;TZID=UTC:20250804T200000
DTEND;TZID=UTC:20250804T210000
DTSTAMP:20260420T100522
CREATED:20250708T060324Z
LAST-MODIFIED:20250719T071956Z
UID:10007554-1754337600-1754341200@www.vis-tourism.com
SUMMARY:Pilates by the Sea s Ivanom (besplatni večernji treninzi)
DESCRIPTION:Pilates na otvorenom\, vođene grupe\, naglasak na istezanju\, snazi i opuštanju. \nTrening je besplatan\, a održavat će se ponedjeljkom i četvrtkom od 20:00–21:00h. \nEvent se neće održati u slučaju kiše ili drugih nepovoljnih vremenskih uvjeta.
URL:https://www.vis-tourism.com/hr/kalendar-dogadanja/pilates-by-the-sea-besplatni-vecernji-treninzi/2025-08-04/
LOCATION:Dvorište Srednje škole A. M. Karamaneo
CATEGORIES:Sport
ATTACH;FMTTYPE=image/png:https://www.vis-tourism.com/wp-content/uploads/2025/07/2.png
END:VEVENT
BEGIN:VEVENT
DTSTART;TZID=UTC:20250804T063000
DTEND;TZID=UTC:20250804T073000
DTSTAMP:20260420T100522
CREATED:20250708T064601Z
LAST-MODIFIED:20250806T114023Z
UID:10007684-1754289000-1754292600@www.vis-tourism.com
SUMMARY:Jutarnja joga s Johannom (besplatni tečajevi)
DESCRIPTION:Vođene satnice na terasi s pogledom na višku luku\, otvorene za sve\, naglasak na relaksaciji i pokretanju tijela (pozdrav suncu). \nVrijeme održavanja: Ponedjeljkom\, srijedom i subotom 6:30–7:30 h \nEvent se neće održati u slučaju kiše ili drugih nepovoljnih vremenskih uvjeta.
URL:https://www.vis-tourism.com/hr/kalendar-dogadanja/jutarnja-joga-besplatni-tecajevi/2025-08-04/
LOCATION:Dvorište Srednje škole A. M. Karamaneo
CATEGORIES:Sport
ATTACH;FMTTYPE=image/png:https://www.vis-tourism.com/wp-content/uploads/2025/07/1.png
END:VEVENT
BEGIN:VEVENT
DTSTART;TZID=UTC:20250802T063000
DTEND;TZID=UTC:20250802T073000
DTSTAMP:20260420T100522
CREATED:20250708T064601Z
LAST-MODIFIED:20250806T114023Z
UID:10007683-1754116200-1754119800@www.vis-tourism.com
SUMMARY:Jutarnja joga s Johannom (besplatni tečajevi)
DESCRIPTION:Vođene satnice na terasi s pogledom na višku luku\, otvorene za sve\, naglasak na relaksaciji i pokretanju tijela (pozdrav suncu). \nVrijeme održavanja: Ponedjeljkom\, srijedom i subotom 6:30–7:30 h \nEvent se neće održati u slučaju kiše ili drugih nepovoljnih vremenskih uvjeta.
URL:https://www.vis-tourism.com/hr/kalendar-dogadanja/jutarnja-joga-besplatni-tecajevi/2025-08-02/
LOCATION:Dvorište Srednje škole A. M. Karamaneo
CATEGORIES:Sport
ATTACH;FMTTYPE=image/png:https://www.vis-tourism.com/wp-content/uploads/2025/07/1.png
END:VEVENT
BEGIN:VEVENT
DTSTART;TZID=UTC:20250801T203000
DTEND;TZID=UTC:20250801T213000
DTSTAMP:20260420T100522
CREATED:20250711T060017Z
LAST-MODIFIED:20250806T094931Z
UID:10007828-1754080200-1754083800@www.vis-tourism.com
SUMMARY:Joga 50+ s Margitom (besplatni tečajevi)
DESCRIPTION:TIJEKOM ODMORA NA OTOKU\nDarujte si vrijeme za uživanje u satovima joge slow-flow. Nježan put prema sebi kroz joga tehnike\, vježbe disanja i duboku relaksaciju. \nPridružite se posebno prilagođenim satovima joge za osobe u zrelijim godinama! \nVrijeme održavanja: Petkom 20:30–21:30\nLokacija: Dvorište Srednje škole A. M. Karamaneo \nPrijave i informacije: \nMargita\, Hatha Yoga teacher \n\nmob.: (00385) +91 580 32 03\ne-mail: megy.dancer@gmail.com\n\nEvent se neće održati u slučaju kiše ili drugih nepovoljnih vremenskih uvjeta.
URL:https://www.vis-tourism.com/hr/kalendar-dogadanja/joga-50-besplatni-tecajevi/2025-08-01/
LOCATION:Dvorište Srednje škole A. M. Karamaneo
CATEGORIES:Sport
ATTACH;FMTTYPE=image/png:https://www.vis-tourism.com/wp-content/uploads/2025/07/3.png
END:VEVENT
BEGIN:VEVENT
DTSTART;TZID=UTC:20250731T200000
DTEND;TZID=UTC:20250731T210000
DTSTAMP:20260420T100522
CREATED:20250708T060324Z
LAST-MODIFIED:20250719T071956Z
UID:10007553-1753992000-1753995600@www.vis-tourism.com
SUMMARY:Pilates by the Sea s Ivanom (besplatni večernji treninzi)
DESCRIPTION:Pilates na otvorenom\, vođene grupe\, naglasak na istezanju\, snazi i opuštanju. \nTrening je besplatan\, a održavat će se ponedjeljkom i četvrtkom od 20:00–21:00h. \nEvent se neće održati u slučaju kiše ili drugih nepovoljnih vremenskih uvjeta.
URL:https://www.vis-tourism.com/hr/kalendar-dogadanja/pilates-by-the-sea-besplatni-vecernji-treninzi/2025-07-31/
LOCATION:Dvorište Srednje škole A. M. Karamaneo
CATEGORIES:Sport
ATTACH;FMTTYPE=image/png:https://www.vis-tourism.com/wp-content/uploads/2025/07/2.png
END:VEVENT
BEGIN:VEVENT
DTSTART;TZID=UTC:20250730T063000
DTEND;TZID=UTC:20250730T073000
DTSTAMP:20260420T100522
CREATED:20250708T064601Z
LAST-MODIFIED:20250806T114023Z
UID:10007682-1753857000-1753860600@www.vis-tourism.com
SUMMARY:Jutarnja joga s Johannom (besplatni tečajevi)
DESCRIPTION:Vođene satnice na terasi s pogledom na višku luku\, otvorene za sve\, naglasak na relaksaciji i pokretanju tijela (pozdrav suncu). \nVrijeme održavanja: Ponedjeljkom\, srijedom i subotom 6:30–7:30 h \nEvent se neće održati u slučaju kiše ili drugih nepovoljnih vremenskih uvjeta.
URL:https://www.vis-tourism.com/hr/kalendar-dogadanja/jutarnja-joga-besplatni-tecajevi/2025-07-30/
LOCATION:Dvorište Srednje škole A. M. Karamaneo
CATEGORIES:Sport
ATTACH;FMTTYPE=image/png:https://www.vis-tourism.com/wp-content/uploads/2025/07/1.png
END:VEVENT
BEGIN:VEVENT
DTSTART;TZID=UTC:20250728T200000
DTEND;TZID=UTC:20250728T210000
DTSTAMP:20260420T100522
CREATED:20250708T060324Z
LAST-MODIFIED:20250719T071956Z
UID:10007552-1753732800-1753736400@www.vis-tourism.com
SUMMARY:Pilates by the Sea s Ivanom (besplatni večernji treninzi)
DESCRIPTION:Pilates na otvorenom\, vođene grupe\, naglasak na istezanju\, snazi i opuštanju. \nTrening je besplatan\, a održavat će se ponedjeljkom i četvrtkom od 20:00–21:00h. \nEvent se neće održati u slučaju kiše ili drugih nepovoljnih vremenskih uvjeta.
URL:https://www.vis-tourism.com/hr/kalendar-dogadanja/pilates-by-the-sea-besplatni-vecernji-treninzi/2025-07-28/
LOCATION:Dvorište Srednje škole A. M. Karamaneo
CATEGORIES:Sport
ATTACH;FMTTYPE=image/png:https://www.vis-tourism.com/wp-content/uploads/2025/07/2.png
END:VEVENT
BEGIN:VEVENT
DTSTART;TZID=UTC:20250728T063000
DTEND;TZID=UTC:20250728T073000
DTSTAMP:20260420T100522
CREATED:20250708T064601Z
LAST-MODIFIED:20250806T114023Z
UID:10007681-1753684200-1753687800@www.vis-tourism.com
SUMMARY:Jutarnja joga s Johannom (besplatni tečajevi)
DESCRIPTION:Vođene satnice na terasi s pogledom na višku luku\, otvorene za sve\, naglasak na relaksaciji i pokretanju tijela (pozdrav suncu). \nVrijeme održavanja: Ponedjeljkom\, srijedom i subotom 6:30–7:30 h \nEvent se neće održati u slučaju kiše ili drugih nepovoljnih vremenskih uvjeta.
URL:https://www.vis-tourism.com/hr/kalendar-dogadanja/jutarnja-joga-besplatni-tecajevi/2025-07-28/
LOCATION:Dvorište Srednje škole A. M. Karamaneo
CATEGORIES:Sport
ATTACH;FMTTYPE=image/png:https://www.vis-tourism.com/wp-content/uploads/2025/07/1.png
END:VEVENT
BEGIN:VEVENT
DTSTART;TZID=UTC:20250726T063000
DTEND;TZID=UTC:20250726T073000
DTSTAMP:20260420T100523
CREATED:20250708T064601Z
LAST-MODIFIED:20250806T114023Z
UID:10007680-1753511400-1753515000@www.vis-tourism.com
SUMMARY:Jutarnja joga s Johannom (besplatni tečajevi)
DESCRIPTION:Vođene satnice na terasi s pogledom na višku luku\, otvorene za sve\, naglasak na relaksaciji i pokretanju tijela (pozdrav suncu). \nVrijeme održavanja: Ponedjeljkom\, srijedom i subotom 6:30–7:30 h \nEvent se neće održati u slučaju kiše ili drugih nepovoljnih vremenskih uvjeta.
URL:https://www.vis-tourism.com/hr/kalendar-dogadanja/jutarnja-joga-besplatni-tecajevi/2025-07-26/
LOCATION:Dvorište Srednje škole A. M. Karamaneo
CATEGORIES:Sport
ATTACH;FMTTYPE=image/png:https://www.vis-tourism.com/wp-content/uploads/2025/07/1.png
END:VEVENT
BEGIN:VEVENT
DTSTART;TZID=UTC:20250725T203000
DTEND;TZID=UTC:20250725T213000
DTSTAMP:20260420T100523
CREATED:20250711T060017Z
LAST-MODIFIED:20250806T094931Z
UID:10007827-1753475400-1753479000@www.vis-tourism.com
SUMMARY:Joga 50+ s Margitom (besplatni tečajevi)
DESCRIPTION:TIJEKOM ODMORA NA OTOKU\nDarujte si vrijeme za uživanje u satovima joge slow-flow. Nježan put prema sebi kroz joga tehnike\, vježbe disanja i duboku relaksaciju. \nPridružite se posebno prilagođenim satovima joge za osobe u zrelijim godinama! \nVrijeme održavanja: Petkom 20:30–21:30\nLokacija: Dvorište Srednje škole A. M. Karamaneo \nPrijave i informacije: \nMargita\, Hatha Yoga teacher \n\nmob.: (00385) +91 580 32 03\ne-mail: megy.dancer@gmail.com\n\nEvent se neće održati u slučaju kiše ili drugih nepovoljnih vremenskih uvjeta.
URL:https://www.vis-tourism.com/hr/kalendar-dogadanja/joga-50-besplatni-tecajevi/2025-07-25/
LOCATION:Dvorište Srednje škole A. M. Karamaneo
CATEGORIES:Sport
ATTACH;FMTTYPE=image/png:https://www.vis-tourism.com/wp-content/uploads/2025/07/3.png
END:VEVENT
BEGIN:VEVENT
DTSTART;TZID=UTC:20250724T200000
DTEND;TZID=UTC:20250724T210000
DTSTAMP:20260420T100523
CREATED:20250708T060324Z
LAST-MODIFIED:20250719T071956Z
UID:10007551-1753387200-1753390800@www.vis-tourism.com
SUMMARY:Pilates by the Sea s Ivanom (besplatni večernji treninzi)
DESCRIPTION:Pilates na otvorenom\, vođene grupe\, naglasak na istezanju\, snazi i opuštanju. \nTrening je besplatan\, a održavat će se ponedjeljkom i četvrtkom od 20:00–21:00h. \nEvent se neće održati u slučaju kiše ili drugih nepovoljnih vremenskih uvjeta.
URL:https://www.vis-tourism.com/hr/kalendar-dogadanja/pilates-by-the-sea-besplatni-vecernji-treninzi/2025-07-24/
LOCATION:Dvorište Srednje škole A. M. Karamaneo
CATEGORIES:Sport
ATTACH;FMTTYPE=image/png:https://www.vis-tourism.com/wp-content/uploads/2025/07/2.png
END:VEVENT
BEGIN:VEVENT
DTSTART;TZID=UTC:20250723T063000
DTEND;TZID=UTC:20250723T073000
DTSTAMP:20260420T100523
CREATED:20250708T064601Z
LAST-MODIFIED:20250806T114023Z
UID:10007679-1753252200-1753255800@www.vis-tourism.com
SUMMARY:Jutarnja joga s Johannom (besplatni tečajevi)
DESCRIPTION:Vođene satnice na terasi s pogledom na višku luku\, otvorene za sve\, naglasak na relaksaciji i pokretanju tijela (pozdrav suncu). \nVrijeme održavanja: Ponedjeljkom\, srijedom i subotom 6:30–7:30 h \nEvent se neće održati u slučaju kiše ili drugih nepovoljnih vremenskih uvjeta.
URL:https://www.vis-tourism.com/hr/kalendar-dogadanja/jutarnja-joga-besplatni-tecajevi/2025-07-23/
LOCATION:Dvorište Srednje škole A. M. Karamaneo
CATEGORIES:Sport
ATTACH;FMTTYPE=image/png:https://www.vis-tourism.com/wp-content/uploads/2025/07/1.png
END:VEVENT
END:VCALENDAR